BEGIN:VCALENDAR
VERSION:2.0
PRODID:-//wp-events-plugin.com//7.2.3.1//EN
BEGIN:VEVENT
UID:411@saint-joseph-de-riviere.fr
DTSTART:20200607T073000Z
DTEND:20200607T110000Z
DTSTAMP:20191231T155101Z
URL:http://www.saint-joseph-de-riviere.fr/events/vente-de-fleurs-pour-la-f
 ete-des-meres/
SUMMARY:Vente de Fleurs pour la Fête des Mères
DESCRIPTION:Vente de fleurs pour la fête des Mères\,\n\norganisée par l'
 AFR\n\ndevant la boulangerie et le tabac/presse
END:VEVENT
END:VCALENDAR