BEGIN:VCALENDAR
VERSION:2.0
PRODID:-//wp-events-plugin.com//7.2.3.1//EN
BEGIN:VEVENT
UID:888@saint-joseph-de-riviere.fr
DTSTART;TZID=Europe/Paris:20240608T090000
DTEND;TZID=Europe/Paris:20240608T110000
DTSTAMP:20240502T203746Z
URL:http://www.saint-joseph-de-riviere.fr/events/une-place-pour-chacun-e-2
 /
SUMMARY:Une place pour chacun-e
DESCRIPTION:L’espace-temps mouvement\, avec deux espaces dédiés accompa
 gnés par des professionnels\, propose d’offrir un temps de répit et d
 ’échanges pour les familles d’enfants à besoins spécifiques ou en s
 ituation de handicap.\nSamedi 8 juin\, de 9h à 11h à Saint Joseph de Riv
 ière\, 7 place de la Mairie.&nbsp\;\n\nL’entrée est libre et gratuite 
 (chaque famille peut venir à l’heure souhaitée et repartir quand elle 
 le souhaite).\n\nLes enfants à besoins spécifiques seront accueillis par
  deux professionnelles dans un atelier « sensoriel » et un espace de jeu
 x\, les parents pourront soit jouer avec leur enfant\, soit échanger entr
 e eux.\nLe créneau est ouvert aux fratries\, pas d’inscription nécessa
 ire.\n\nPour plus de renseignements :\nRéférente Handicap de la Communau
 té de Communes Cœur de Chartreuse\nPar téléphone\, au : 07-84-34-85-90
 \nPar mail\, à : soutien.enfance@cc-coeurdechartreuse.fr\n\n\n\n&nbsp\;\n
 \n&nbsp\;\nRéférent handicap - Communauté de Communes Cœur de Chartreu
 se (coeurdechartreuse.fr)\nGroupe réseau : Une place pour chacun·e - Com
 munauté de Communes Cœur de Chartreuse (coeurdechartreuse.fr)\nInclusion
  : les outils à disposition - Communauté de Communes Cœur de Chartreuse
  (coeurdechartreuse.fr)
LOCATION:salle d'animation rurale\, le bourg\, saint joseph de rivière\, 3
 8134\, France
GEO:45.386276;5.736549
X-APPLE-STRUCTURED-LOCATION;VALUE=URI;X-ADDRESS=le bourg\, saint joseph de 
 rivière\, 38134\, France;X-APPLE-RADIUS=100;X-TITLE=salle d'animation rur
 ale:geo:45.386276,5.736549
END:VEVENT
BEGIN:VTIMEZONE
TZID:Europe/Paris
X-LIC-LOCATION:Europe/Paris
BEGIN:DAYLIGHT
DTSTART:20240331T030000
TZOFFSETFROM:+0100
TZOFFSETTO:+0200
TZNAME:CEST
END:DAYLIGHT
END:VTIMEZONE
END:VCALENDAR