BEGIN:VCALENDAR
VERSION:2.0
PRODID:-//wp-events-plugin.com//7.2.3.1//EN
BEGIN:VEVENT
UID:719@saint-joseph-de-riviere.fr
DTSTART;TZID=Europe/Paris:20221204T150000
DTEND;TZID=Europe/Paris:20221204T170000
DTSTAMP:20221103T080639Z
URL:http://www.saint-joseph-de-riviere.fr/events/theatre-fugue-en-vieux-ma
 jeurs/
SUMMARY:THEATRE "FUGUE EN VIEUX MAJEURS"
DESCRIPTION:Spectacle théâtral\n\nFugue en vieux majeurs\n\nEcrit et mis 
 en scène par Jean-Pierre George\, En Compagnie des Oliviers\n\nC’est un
  spectacle\, en textes et en chansons\, qui dit la retraite\, la vieilless
 e\, qui parle résolument du lendemain\, qui appelle un chat un chat\, év
 oque le bien manger\, le bien dormir\, le bien bouger\, le bien aimer\, br
 ef une espèce de cri à la vieillesse heureuse. Sont abordés des thèmes
  tels que la solitude\, la santé\, la nutrition\, le regard des autres et
  de la société.\nIl s’adresse à tous les retraités et à leurs famil
 les\, ainsi qu’aux professionnels du secteur gérontologique.\n\n&nbsp\;
 \n\nDimanche 4 décembre 2022 à 15h00\nLa Maison des Arts\, 23 av. Charle
 s de Gaulle à Saint-Laurent-du-Pont\nEntrée libre et gratuite - Accueil 
 à partir de 14h30\n&nbsp\;\n\nL’histoire n’est nulle autre que celle 
 que pourraient vivre tous les retraités\, jeunes ou moins jeunes\, confro
 ntés aux défis de la vieillesse… à un détail près : le choix de Cat
 herine\, Joseph et Gisèle\, de fuguer de leur maison de retraite pour dev
 enir bistrotiers itinérants et croquer la vie à pleines dents ! Ils nous
  racontent leurs histoires\, leurs préoccupations\, leurs rêves et surto
 ut leur conviction qu’une vieillesse heureuse est possible. A leurs côt
 és\, une aide-soignante\, Sarah\, « gérontophile » et musicienne\, qui
  a choisi de les suivre dans cette aventure pleine d’humanité et de lib
 erté. Leur première cliente\, Sonia\, est une retraitée mise dehors par
  les enfants de son défunt compagnon. Tout au long du spectacle\, les sc
 ènes font passer les spectateurs d’une émotion à une autre\, de la jo
 ie à la tristesse en passant par la compassion ou encore la révolte. Env
 ie de connaître la suite de l’histoire ? Venez assister au spectacle\, 
 vous ne serez pas déçu.e !\n\nPendant le temps de convivialité qui sera
  proposé après la représentation d’une durée d’1h15\, vous aurez l
 a possibilité d'aller à la rencontre des comédiens et de la troupe En C
 ompagnie des Oliviers\, de partager avec eux.\n\nCette réalisation est pr
 oposée par la MSA (Mutualité Sociale Agricole)\, caisse de retraite du r
 égime agricole\, sous l’égide d’Atouts Prévention Rhône-Alpes\, gr
 oupement des caisses de retraite de la région\, avec le soutien de la com
 mune de Saint-Laurent-du-Pont et de Radio Couleur Chartreuse. Elle est mis
 e en scène par la troupe En compagnie des Oliviers et jouée par des élu
 s bénévoles de la MSA\, isérois et haut-savoyards. L’organisation est
  confiée à Itinéraires de santé\, association créée à l’initiativ
 e de la MSA pour promouvoir la prévention santé aux seniors.\n\nInformat
 ion et réservation (facultative) sur alpesdunord.msa.fr
ATTACH;FMTTYPE=image/jpeg:http://www.saint-joseph-de-riviere.fr/wp-content
 /uploads/2022/11/Fugue-en-vieux-majeurs-notes-musique-reduite-1.jpg
LOCATION:Maison des Arts - St Laurent\, Rue du général De GAULLE\, Saint 
 Laurent du Pont\, Rhône-Alpes\, 38380\, Isère\, France
GEO:45.388757308098576;5.7353460788726816
X-APPLE-STRUCTURED-LOCATION;VALUE=URI;X-ADDRESS=Rue du général De GAULLE\
 , Saint Laurent du Pont\, Rhône-Alpes\, 38380\, Isère\, France;X-APPLE-R
 ADIUS=100;X-TITLE=Maison des Arts - St Laurent:geo:45.388757308098576,5.73
 53460788726816
END:VEVENT
BEGIN:VTIMEZONE
TZID:Europe/Paris
X-LIC-LOCATION:Europe/Paris
BEGIN:STANDARD
DTSTART:20221030T020000
TZOFFSETFROM:+0200
TZOFFSETTO:+0100
TZNAME:CET
END:STANDARD
END:VTIMEZONE
END:VCALENDAR