BEGIN:VCALENDAR
VERSION:2.0
PRODID:-//wp-events-plugin.com//7.2.3.1//EN
BEGIN:VEVENT
UID:284@saint-joseph-de-riviere.fr
DTSTART;TZID=Europe/Paris:20190220T090000
DTEND;TZID=Europe/Paris:20190220T120000
DTSTAMP:20190208T230658Z
URL:http://www.saint-joseph-de-riviere.fr/events/pour-donner-votre-avis/
SUMMARY:Pour donner votre avis
DESCRIPTION:venez déposer vos idées
LOCATION:Mairie - St Laurent du Pont\, mairie\, St Laurent du Pont\, Auverg
 ne-Rhône-Alpes\, 38380\, Grenoble\, France
GEO:45.3876003;5.7344284
X-APPLE-STRUCTURED-LOCATION;VALUE=URI;X-ADDRESS=mairie\, St Laurent du Pont
 \, Auvergne-Rhône-Alpes\, 38380\, Grenoble\, France;X-APPLE-RADIUS=100;X-
 TITLE=Mairie - St Laurent du Pont:geo:45.3876003,5.7344284
END:VEVENT
BEGIN:VTIMEZONE
TZID:Europe/Paris
X-LIC-LOCATION:Europe/Paris
BEGIN:STANDARD
DTSTART:20181028T020000
TZOFFSETFROM:+0200
TZOFFSETTO:+0100
TZNAME:CET
END:STANDARD
END:VTIMEZONE
END:VCALENDAR