BEGIN:VCALENDAR
VERSION:2.0
PRODID:-//wp-events-plugin.com//7.2.3.1//EN
BEGIN:VEVENT
UID:508@saint-joseph-de-riviere.fr
DTSTART:20210707T180000Z
DTEND:20210707T210000Z
DTSTAMP:20210627T055354Z
URL:http://www.saint-joseph-de-riviere.fr/events/comprendre-les-enjeux-cli
 mat-energie/
SUMMARY:Comprendre les enjeux "climat/énergie"
DESCRIPTION:Soirée spéciale à la Tuilerie
LOCATION:Tuilerie - St Joseph\, Chemin de la Tuilerie\, St Joseph de Riviè
 re\, 38134\, France
GEO:45.382385403580194;5.688629354431214
X-APPLE-STRUCTURED-LOCATION;VALUE=URI;X-ADDRESS=Chemin de la Tuilerie\, St 
 Joseph de Rivière\, 38134\, France;X-APPLE-RADIUS=100;X-TITLE=Tuilerie - 
 St Joseph:geo:45.382385403580194,5.688629354431214
END:VEVENT
END:VCALENDAR